BEGIN:VCALENDAR
VERSION:2.0
PRODID:-//Bray Park Community Church - ECPv5.3.2.1//NONSGML v1.0//EN
CALSCALE:GREGORIAN
METHOD:PUBLISH
X-WR-CALNAME:Bray Park Community Church
X-ORIGINAL-URL:https://bpcc.com.au
X-WR-CALDESC:Events for Bray Park Community Church
BEGIN:VTIMEZONE
TZID:Australia/Brisbane
BEGIN:STANDARD
TZOFFSETFROM:+1000
TZOFFSETTO:+1000
TZNAME:AEST
DTSTART:20210101T000000
END:STANDARD
END:VTIMEZONE
BEGIN:VEVENT
DTSTART;TZID=Australia/Brisbane:20210224T190000
DTEND;TZID=Australia/Brisbane:20210224T210000
DTSTAMP:20210223T215356
CREATED:20210217T024519Z
LAST-MODIFIED:20210125T030103Z
UID:5592-1614193200-1614200400@bpcc.com.au
SUMMARY:Inspire Youth
DESCRIPTION:INSPIRE YOUTH GROWTH GROUP\nThis group spends time discussing the sermon from Sunday and how it applies to their lives today as young people and as followers of Jesus. \nWhere: BPCC (Meeting Room in Foyer) \nWhen: Wednesday\, 7– 9pm\, during the school term \nWho: Grades 7 – 12 \nEmail: youth@bpcc.com.au for info \nREGISTER NOW!
URL:https://bpcc.com.au/event/inspire-youth-3/
LOCATION:BPCC\, 10 Youngs Crossing Road\, Bray Park\, QLD\, 4500\, Australia
CATEGORIES:Youth
ATTACH;FMTTYPE=image/jpeg:https://bpcc.com.au/wp-content/uploads/2021/01/iNSPIRE.jpg
ORGANIZER;CN="BPCC%20Youth":MAILTO:youth@bpcc.com.au
END:VEVENT
BEGIN:VEVENT
DTSTART;TZID=Australia/Brisbane:20210225T184500
DTEND;TZID=Australia/Brisbane:20210225T210000
DTSTAMP:20210223T215356
CREATED:20210211T041506Z
LAST-MODIFIED:20210122T041524Z
UID:5573-1614278700-1614286800@bpcc.com.au
SUMMARY:Cadets
DESCRIPTION:Thursdays\nFortnightly 6.45pm-9pm @ BPCC\nFor boys in grades 2-6. Helping boys to discover more about themselves\, the world they live in and the God who created it all.\nCost: $60/year + joining fee of $30\nFor more information:\ncadets@bpcc.com.au \nREGISTER NOW!
URL:https://bpcc.com.au/event/cadets-11/
LOCATION:BPCC\, 10 Youngs Crossing Road\, Bray Park\, QLD\, 4500\, Australia
CATEGORIES:Cadets
ATTACH;FMTTYPE=image/jpeg:https://bpcc.com.au/wp-content/uploads/2020/01/Cadets_Term_1.jpg
ORGANIZER;CN="Cadets":MAILTO:cadets@bpcc.com.au
END:VEVENT
BEGIN:VEVENT
DTSTART;TZID=Australia/Brisbane:20210227T140000
DTEND;TZID=Australia/Brisbane:20210227T170000
DTSTAMP:20210223T215356
CREATED:20210122T034639Z
LAST-MODIFIED:20210122T034639Z
UID:5536-1614434400-1614445200@bpcc.com.au
SUMMARY:Women's Movie & Afternoon Tea
DESCRIPTION:Saturday 27th Feb\, 2-5pm | $5 per person.\nWe will show the movie ‘I Still Believe’ and afterwards have an opportunity to chat and enjoy afternoon tea.\nAll ladies are welcome you’re welcome to invite friends and family.\nRegistration is essential. \nREGISTER NOW!
URL:https://bpcc.com.au/event/womens-movie-afternoon-tea/
LOCATION:BPCC\, 10 Youngs Crossing Road\, Bray Park\, QLD\, 4500\, Australia
CATEGORIES:Community,Women
ATTACH;FMTTYPE=image/jpeg:https://bpcc.com.au/wp-content/uploads/2021/01/Movie_and_afternoon_tea_27th_feb-2.jpg
END:VEVENT
BEGIN:VEVENT
DTSTART;VALUE=DATE:20210228
DTEND;VALUE=DATE:20210301
DTSTAMP:20210223T215356
CREATED:20210222T000059Z
LAST-MODIFIED:20210122T041212Z
UID:5552-1614470400-1614556799@bpcc.com.au
SUMMARY:Sunday Services 9am & 6pm
DESCRIPTION:GATHER ONLINE\nChurch Online will continue to be streamed at 9AM on our regular platforms. \n\n\n\n\n\n\n\n\n\n\nGATHER IN-PERSON\nIf you would like to gather in-person with us\, you can register for a Sunday service (9AM and 6PM) by using the links below or by calling (07) 3882 1989. Spaces are limited\, so registrations are essential. Registration will open each Tuesday at 10am. If you are unwell\, please do not attend at this time and join us on Church Online instead. \n\n\n\n\n\nRegister for 9am serviceRegister for 6PM service
URL:https://bpcc.com.au/event/sunday-services-9am-6pm-43/
LOCATION:BPCC\, 10 Youngs Crossing Road\, Bray Park\, QLD\, 4500\, Australia
CATEGORIES:Community,Worship & Prayer
ATTACH;FMTTYPE=image/png:https://bpcc.com.au/wp-content/uploads/2020/06/Facebook_Cover.png
END:VEVENT
BEGIN:VEVENT
DTSTART;TZID=Australia/Brisbane:20210301T190000
DTEND;TZID=Australia/Brisbane:20210301T210000
DTSTAMP:20210223T215356
CREATED:20210222T032953Z
LAST-MODIFIED:20210122T035756Z
UID:5500-1614625200-1614632400@bpcc.com.au
SUMMARY:BYA Young Adults
DESCRIPTION:We are a group of young adults (post-grade-12 to 30-years-old) who meet on Monday nights to have fun\, grow in our faith and build friendships. If you’re a young adult\, come along! \nREGISTER NOW!
URL:https://bpcc.com.au/event/bya-young-adults-9/
LOCATION:BPCC\, 10 Youngs Crossing Road\, Bray Park\, QLD\, 4500\, Australia
CATEGORIES:Young Adults
END:VEVENT
BEGIN:VEVENT
DTSTART;TZID=Australia/Brisbane:20210302T090000
DTEND;TZID=Australia/Brisbane:20210302T110000
DTSTAMP:20210223T215356
CREATED:20210222T033845Z
LAST-MODIFIED:20210122T033950Z
UID:5520-1614675600-1614682800@bpcc.com.au
SUMMARY:Playgroup
DESCRIPTION:REGISTER NOW!
URL:https://bpcc.com.au/event/playgroup-25/
LOCATION:BPCC\, 10 Youngs Crossing Road\, Bray Park\, QLD\, 4500\, Australia
CATEGORIES:Children,Community,Men,Outreach,Women
ATTACH;FMTTYPE=image/jpeg:https://bpcc.com.au/wp-content/uploads/2021/01/Publication6.jpg
ORGANIZER;CN="Bray%20Park%20Community%20Church":MAILTO:office@bpcc.com.au
END:VEVENT
BEGIN:VEVENT
DTSTART;TZID=Australia/Brisbane:20210304T183000
DTEND;TZID=Australia/Brisbane:20210304T203000
DTSTAMP:20210223T215356
CREATED:20210218T030323Z
LAST-MODIFIED:20210122T030350Z
UID:5459-1614882600-1614889800@bpcc.com.au
SUMMARY:GEMS
DESCRIPTION:We have an exciting term planned for the GEMS girls and we hope your girls will be joining us. \nThursdays\nFortnightly 6.30pm-8.30pm @ BPCC\nFor girls in grades 1-7. Helping girls to grow into who they were created to be\, through friendships\, games\, crafts\, camps and badges\, all with a biblical focus.\nCost: $75/year + joining fee $35\nFor more information:\ngems@bpcc.com.au \nPlease use this link to register your daughter for GEMS\, payments can also be made through this link with partial payments available. \nREGISTER NOW!
URL:https://bpcc.com.au/event/gems-14/
LOCATION:BPCC\, 10 Youngs Crossing Road\, Bray Park\, QLD\, 4500\, Australia
CATEGORIES:GEMS
ATTACH;FMTTYPE=image/jpeg:https://bpcc.com.au/wp-content/uploads/2020/01/gems_term_1-1.jpg
ORGANIZER;CN="GEMS":MAILTO:gems@bpcc.com.au
END:VEVENT
BEGIN:VEVENT
DTSTART;TZID=Australia/Brisbane:20210305T100000
DTEND;TZID=Australia/Brisbane:20210305T130000
DTSTAMP:20210223T215356
CREATED:20210219T032731Z
LAST-MODIFIED:20210115T002808Z
UID:5431-1614938400-1614949200@bpcc.com.au
SUMMARY:Conversation Club
DESCRIPTION:Conversation Club is for anyone aged over 65! Each fortnight\, we will have a guest speaker and a sumptuous three course lunch for them to enjoy. It’s a wonderful way for our treasured senior members to connect\, have fun\, and be spoilt with a lovely meal together. \nMeeting every fortnight on Fridays from 10am to 1pm. \nThe cost is just $5 each! \nPlease follow the prompts to register\, if you have any difficulty please contact the church office via email office@bpcc.com.au or by phone 3882 1989. \n\nREGISTER NOW!
URL:https://bpcc.com.au/event/conversation-club-15/
LOCATION:BPCC\, 10 Youngs Crossing Road\, Bray Park\, QLD\, 4500\, Australia
CATEGORIES:Seniors
ATTACH;FMTTYPE=image/jpeg:https://bpcc.com.au/wp-content/uploads/2020/11/conversation_club.jpg
END:VEVENT
BEGIN:VEVENT
DTSTART;TZID=Australia/Brisbane:20210312T170000
DTEND;TZID=Australia/Brisbane:20210314T140000
DTSTAMP:20210223T215356
CREATED:20210126T230048Z
LAST-MODIFIED:20210212T044849Z
UID:5607-1615568400-1615730400@bpcc.com.au
SUMMARY:Mob Retreat - Real Faith
DESCRIPTION:Our 2021 MOB Retreat is coming up soon!\nWe are heading to the beach at Bribie Island for a chill weekend away with just the Yr. 10-12’s and leaders. We’ve got accommodation at the Bribie Island Surf Club in Woorim\, literally on the beachfront\, so bring along your togs and get your sand castle shovels packed 😉 \nOver the weekend we’ll be thinking about the theme of Real Faith. We look forward to talking through questions like: What is it that makes someone a Christian? How do you know whether you are a Christian? And how do your beliefs shape the way you live?\nWe’ve also got some great activities planned\, we’ll be enjoying great food\, and most of all we will be relaxing and hanging out together for a weekend away from the stresses of senior school assessment. \nAnd maybe best of all- the cost is only $50! Make sure that you register now to save a spot! \nIf you have any questions please email us at youth@bpcc.com.au\, or speak to a leader at youth or church. \nREGISTER NOW!
URL:https://bpcc.com.au/event/mob-retreat-real-faith/
LOCATION:Bribie Island Surf Club\, 2 First Ave\, Woorim\, QLD\, 4500\, Australia
CATEGORIES:Youth
ATTACH;FMTTYPE=image/jpeg:https://bpcc.com.au/wp-content/uploads/2021/01/mob_retreat-1.jpg
ORGANIZER;CN="BPCC%20Youth":MAILTO:youth@bpcc.com.au
END:VEVENT
BEGIN:VEVENT
DTSTART;TZID=Australia/Brisbane:20210320T090000
DTEND;TZID=Australia/Brisbane:20210320T150000
DTSTAMP:20210223T215356
CREATED:20210122T035558Z
LAST-MODIFIED:20210122T035558Z
UID:5548-1616230800-1616252400@bpcc.com.au
SUMMARY:Childsafe Training
DESCRIPTION:Our Childsafe Training session for 2021 will be held on March 20th in The Shed at BPCC. \n9am – Team Member Training \n12.30pm – Team Leader Training \nThis training day is provided at no cost to our volunteers\, if you are unable to attend the training session/s you can do the training online\, however\, this will cost you $25 per module. \nREGISTER NOW!
URL:https://bpcc.com.au/event/childsafe-training/
LOCATION:BPCC\, 10 Youngs Crossing Road\, Bray Park\, QLD\, 4500\, Australia
CATEGORIES:Children,Courses
ATTACH;FMTTYPE=image/jpeg:https://bpcc.com.au/wp-content/uploads/2021/01/Childsafe_training.jpg
END:VEVENT
BEGIN:VEVENT
DTSTART;TZID=Australia/Brisbane:20210321T133000
DTEND;TZID=Australia/Brisbane:20210321T170000
DTSTAMP:20210223T215356
CREATED:20210126T222353Z
LAST-MODIFIED:20210126T225703Z
UID:5636-1616333400-1616346000@bpcc.com.au
SUMMARY:The Assembly - Youth
DESCRIPTION:We are hosting the next Assembly here at Bray Park on Sunday March 21st!\nIf you haven’t experienced an Assembly before\, it is a gathering of the youth from our sister churches around Brisbane for an afternoon of fun\, fellowship\, and food\, as we focus on the theme of ‘God Is’- exploring the attributes of God.\nOur friends from around Brisbane will be driving up for it\, and we can’t wait to welcome them in!\nWe’ll be starting with a free sausage sizzle at 1pm\, and the event goes until 3.30pm. There is no cost\, but make sure you RSVP! \nREGISTER NOW!
URL:https://bpcc.com.au/event/the-assembly-youth-2/
LOCATION:BPCC\, 10 Youngs Crossing Road\, Bray Park\, QLD\, 4500\, Australia
CATEGORIES:Youth
ATTACH;FMTTYPE=image/jpeg:https://bpcc.com.au/wp-content/uploads/2021/01/Generic_Youth_Assembly-1.jpg
ORGANIZER;CN="BPCC%20Youth":MAILTO:youth@bpcc.com.au
END:VEVENT
BEGIN:VEVENT
DTSTART;TZID=Australia/Brisbane:20210327T070000
DTEND;TZID=Australia/Brisbane:20210327T203000
DTSTAMP:20210223T215356
CREATED:20210122T035035Z
LAST-MODIFIED:20210122T035035Z
UID:5542-1616828400-1616877000@bpcc.com.au
SUMMARY:Men's Breakfast
DESCRIPTION:Come and grab some food and specialty coffee and get to know some of the other men in our church. This is a great opportunity to connect with other men and to be encouraged in your faith. \nMeet at The Park – Specialty Coffee\n10 Youngs Crossing Road\, Bray Park \nREGISTER NOW!
URL:https://bpcc.com.au/event/mens-breakfast-6/
LOCATION:The Park Specialty Coffee\, 10 Youngs Crossing Road\, Bray Park\, Queensland\, 4500\, Australia
CATEGORIES:Community,Food,Men
ATTACH;FMTTYPE=image/jpeg:https://bpcc.com.au/wp-content/uploads/2021/01/brekky_27_march.jpg
END:VEVENT
BEGIN:VEVENT
DTSTART;TZID=Australia/Brisbane:20210331T190000
DTEND;TZID=Australia/Brisbane:20210331T210000
DTSTAMP:20210223T215356
CREATED:20210122T035325Z
LAST-MODIFIED:20210122T035325Z
UID:5545-1617217200-1617224400@bpcc.com.au
SUMMARY:Prayer and Worship
DESCRIPTION:Join us for an evening of prayer and worship.\n7pm in the Church. \n‘Lord\, you are my God;\nI will exalt you and praise your name\,\nfor in perfect faithfulness\nyou have done wonderful things\,\nthings planned long ago.’ [Isaiah 25:1] \nREGISTER NOW!
URL:https://bpcc.com.au/event/prayer-and-worship-2/
LOCATION:BPCC\, 10 Youngs Crossing Road\, Bray Park\, QLD\, 4500\, Australia
CATEGORIES:Community,Music,Worship & Prayer
ATTACH;FMTTYPE=image/jpeg:https://bpcc.com.au/wp-content/uploads/2021/01/Prayer_and_Worship.jpg
END:VEVENT
BEGIN:VEVENT
DTSTART;TZID=Australia/Brisbane:20210404T101500
DTEND;TZID=Australia/Brisbane:20210404T130000
DTSTAMP:20210223T215356
CREATED:20210125T024054Z
LAST-MODIFIED:20210125T024054Z
UID:5580-1617531300-1617541200@bpcc.com.au
SUMMARY:Easter on The Lawn
DESCRIPTION:Celebrate Easter with us on Sunday 3rd April.\n10am to midday | FREE.\nSausage Sizzle\, Jumping Castles\, Kids Activities\, Live Music and more!\nRegistrations are essential. \nREGISTER NOW!
URL:https://bpcc.com.au/event/easter-on-the-lawn-2/
LOCATION:BPCC\, 10 Youngs Crossing Road\, Bray Park\, QLD\, 4500\, Australia
CATEGORIES:Community,Easter
END:VEVENT
END:VCALENDAR